BEGIN:VCALENDAR
VERSION:2.0
PRODID:-//The Newborn Care Solutions Agency - ECPv6.15.20//NONSGML v1.0//EN
CALSCALE:GREGORIAN
METHOD:PUBLISH
X-ORIGINAL-URL:https://thencsa.com
X-WR-CALDESC:Events for The Newborn Care Solutions Agency
REFRESH-INTERVAL;VALUE=DURATION:PT1H
X-Robots-Tag:noindex
X-PUBLISHED-TTL:PT1H
BEGIN:VTIMEZONE
TZID:America/Los_Angeles
BEGIN:DAYLIGHT
TZOFFSETFROM:-0800
TZOFFSETTO:-0700
TZNAME:PDT
DTSTART:20210314T100000
END:DAYLIGHT
BEGIN:STANDARD
TZOFFSETFROM:-0700
TZOFFSETTO:-0800
TZNAME:PST
DTSTART:20211107T090000
END:STANDARD
BEGIN:DAYLIGHT
TZOFFSETFROM:-0800
TZOFFSETTO:-0700
TZNAME:PDT
DTSTART:20220313T100000
END:DAYLIGHT
BEGIN:STANDARD
TZOFFSETFROM:-0700
TZOFFSETTO:-0800
TZNAME:PST
DTSTART:20221106T090000
END:STANDARD
BEGIN:DAYLIGHT
TZOFFSETFROM:-0800
TZOFFSETTO:-0700
TZNAME:PDT
DTSTART:20230312T100000
END:DAYLIGHT
BEGIN:STANDARD
TZOFFSETFROM:-0700
TZOFFSETTO:-0800
TZNAME:PST
DTSTART:20231105T090000
END:STANDARD
BEGIN:DAYLIGHT
TZOFFSETFROM:-0800
TZOFFSETTO:-0700
TZNAME:PDT
DTSTART:20240310T100000
END:DAYLIGHT
BEGIN:STANDARD
TZOFFSETFROM:-0700
TZOFFSETTO:-0800
TZNAME:PST
DTSTART:20241103T090000
END:STANDARD
END:VTIMEZONE
BEGIN:VEVENT
DTSTART;TZID=America/Los_Angeles:20230129T180000
DTEND;TZID=America/Los_Angeles:20230129T190000
DTSTAMP:20260419T125113
CREATED:20210420T043656Z
LAST-MODIFIED:20210420T043656Z
UID:7108-1675015200-1675018800@thencsa.com
SUMMARY:Real Talk\, with Tonya Sakowicz
DESCRIPTION:🌟 Explore Our Training Programs\n            Professional development opportunities for newborn care specialists \n            \n                Apply to Join\n                Family Info\n                Our Process\n            \n        \n\n\nPlease join us at one or more of these events. Locations and additional details will be provided once the event goes live for registrations.\n\n\n\n\nJoin us Sunday evenings\, 6 pm PST / 9 pm EST on the Newborn Care Solutions Facebook page for Real Talk.
URL:https://thencsa.com/event/real-talk-with-tonya-sakowicz-2023-01-29/
END:VEVENT
BEGIN:VEVENT
DTSTART;TZID=America/Los_Angeles:20230122T180000
DTEND;TZID=America/Los_Angeles:20230122T190000
DTSTAMP:20260419T125113
CREATED:20210420T043656Z
LAST-MODIFIED:20210420T043656Z
UID:7107-1674410400-1674414000@thencsa.com
SUMMARY:Real Talk\, with Tonya Sakowicz
DESCRIPTION:🌟 Explore Our Training Programs\n            Professional development opportunities for newborn care specialists \n            \n                Apply to Join\n                Family Info\n                Our Process\n            \n        \n\n\nPlease join us at one or more of these events. Locations and additional details will be provided once the event goes live for registrations.\n\n\n\n\nJoin us Sunday evenings\, 6 pm PST / 9 pm EST on the Newborn Care Solutions Facebook page for Real Talk.
URL:https://thencsa.com/event/real-talk-with-tonya-sakowicz-2023-01-22/
END:VEVENT
BEGIN:VEVENT
DTSTART;TZID=America/Los_Angeles:20230115T180000
DTEND;TZID=America/Los_Angeles:20230115T190000
DTSTAMP:20260419T125113
CREATED:20210420T043656Z
LAST-MODIFIED:20210420T043656Z
UID:7106-1673805600-1673809200@thencsa.com
SUMMARY:Real Talk\, with Tonya Sakowicz
DESCRIPTION:🌟 Explore Our Training Programs\n            Professional development opportunities for newborn care specialists \n            \n                Apply to Join\n                Family Info\n                Our Process\n            \n        \n\n\nPlease join us at one or more of these events. Locations and additional details will be provided once the event goes live for registrations.\n\n\n\n\nJoin us Sunday evenings\, 6 pm PST / 9 pm EST on the Newborn Care Solutions Facebook page for Real Talk.
URL:https://thencsa.com/event/real-talk-with-tonya-sakowicz-2023-01-15/
END:VEVENT
BEGIN:VEVENT
DTSTART;TZID=America/Los_Angeles:20230108T180000
DTEND;TZID=America/Los_Angeles:20230108T190000
DTSTAMP:20260419T125113
CREATED:20210420T043656Z
LAST-MODIFIED:20210420T043656Z
UID:7105-1673200800-1673204400@thencsa.com
SUMMARY:Real Talk\, with Tonya Sakowicz
DESCRIPTION:🌟 Explore Our Training Programs\n            Professional development opportunities for newborn care specialists \n            \n                Apply to Join\n                Family Info\n                Our Process\n            \n        \n\n\nPlease join us at one or more of these events. Locations and additional details will be provided once the event goes live for registrations.\n\n\n\n\nJoin us Sunday evenings\, 6 pm PST / 9 pm EST on the Newborn Care Solutions Facebook page for Real Talk.
URL:https://thencsa.com/event/real-talk-with-tonya-sakowicz-2023-01-08/
END:VEVENT
BEGIN:VEVENT
DTSTART;TZID=America/Los_Angeles:20230101T180000
DTEND;TZID=America/Los_Angeles:20230101T190000
DTSTAMP:20260419T125113
CREATED:20210420T043656Z
LAST-MODIFIED:20210420T043656Z
UID:7104-1672596000-1672599600@thencsa.com
SUMMARY:Real Talk\, with Tonya Sakowicz
DESCRIPTION:🌟 Explore Our Training Programs\n            Professional development opportunities for newborn care specialists \n            \n                Apply to Join\n                Family Info\n                Our Process\n            \n        \n\n\nPlease join us at one or more of these events. Locations and additional details will be provided once the event goes live for registrations.\n\n\n\n\nJoin us Sunday evenings\, 6 pm PST / 9 pm EST on the Newborn Care Solutions Facebook page for Real Talk.
URL:https://thencsa.com/event/real-talk-with-tonya-sakowicz-2023-01-01/
END:VEVENT
BEGIN:VEVENT
DTSTART;TZID=America/Los_Angeles:20221225T180000
DTEND;TZID=America/Los_Angeles:20221225T190000
DTSTAMP:20260419T125113
CREATED:20210420T043656Z
LAST-MODIFIED:20210420T043656Z
UID:7103-1671991200-1671994800@thencsa.com
SUMMARY:Real Talk\, with Tonya Sakowicz
DESCRIPTION:🌟 Explore Our Training Programs\n            Professional development opportunities for newborn care specialists \n            \n                Apply to Join\n                Family Info\n                Our Process\n            \n        \n\n\nPlease join us at one or more of these events. Locations and additional details will be provided once the event goes live for registrations.\n\n\n\n\nJoin us Sunday evenings\, 6 pm PST / 9 pm EST on the Newborn Care Solutions Facebook page for Real Talk.
URL:https://thencsa.com/event/real-talk-with-tonya-sakowicz-2022-12-25/
END:VEVENT
BEGIN:VEVENT
DTSTART;TZID=America/Los_Angeles:20221218T180000
DTEND;TZID=America/Los_Angeles:20221218T190000
DTSTAMP:20260419T125113
CREATED:20210420T043656Z
LAST-MODIFIED:20210420T043656Z
UID:7102-1671386400-1671390000@thencsa.com
SUMMARY:Real Talk\, with Tonya Sakowicz
DESCRIPTION:🌟 Explore Our Training Programs\n            Professional development opportunities for newborn care specialists \n            \n                Apply to Join\n                Family Info\n                Our Process\n            \n        \n\n\nPlease join us at one or more of these events. Locations and additional details will be provided once the event goes live for registrations.\n\n\n\n\nJoin us Sunday evenings\, 6 pm PST / 9 pm EST on the Newborn Care Solutions Facebook page for Real Talk.
URL:https://thencsa.com/event/real-talk-with-tonya-sakowicz-2022-12-18/
END:VEVENT
BEGIN:VEVENT
DTSTART;TZID=America/Los_Angeles:20221211T180000
DTEND;TZID=America/Los_Angeles:20221211T190000
DTSTAMP:20260419T125113
CREATED:20210420T043656Z
LAST-MODIFIED:20210420T043656Z
UID:7101-1670781600-1670785200@thencsa.com
SUMMARY:Real Talk\, with Tonya Sakowicz
DESCRIPTION:🌟 Explore Our Training Programs\n            Professional development opportunities for newborn care specialists \n            \n                Apply to Join\n                Family Info\n                Our Process\n            \n        \n\n\nPlease join us at one or more of these events. Locations and additional details will be provided once the event goes live for registrations.\n\n\n\n\nJoin us Sunday evenings\, 6 pm PST / 9 pm EST on the Newborn Care Solutions Facebook page for Real Talk.
URL:https://thencsa.com/event/real-talk-with-tonya-sakowicz-2022-12-11/
END:VEVENT
BEGIN:VEVENT
DTSTART;TZID=America/Los_Angeles:20221204T180000
DTEND;TZID=America/Los_Angeles:20221204T190000
DTSTAMP:20260419T125113
CREATED:20210420T043656Z
LAST-MODIFIED:20210420T043656Z
UID:7100-1670176800-1670180400@thencsa.com
SUMMARY:Real Talk\, with Tonya Sakowicz
DESCRIPTION:🌟 Explore Our Training Programs\n            Professional development opportunities for newborn care specialists \n            \n                Apply to Join\n                Family Info\n                Our Process\n            \n        \n\n\nPlease join us at one or more of these events. Locations and additional details will be provided once the event goes live for registrations.\n\n\n\n\nJoin us Sunday evenings\, 6 pm PST / 9 pm EST on the Newborn Care Solutions Facebook page for Real Talk.
URL:https://thencsa.com/event/real-talk-with-tonya-sakowicz-2022-12-04/
END:VEVENT
BEGIN:VEVENT
DTSTART;TZID=America/Los_Angeles:20221127T180000
DTEND;TZID=America/Los_Angeles:20221127T190000
DTSTAMP:20260419T125113
CREATED:20210420T043656Z
LAST-MODIFIED:20210420T043656Z
UID:7099-1669572000-1669575600@thencsa.com
SUMMARY:Real Talk\, with Tonya Sakowicz
DESCRIPTION:🌟 Explore Our Training Programs\n            Professional development opportunities for newborn care specialists \n            \n                Apply to Join\n                Family Info\n                Our Process\n            \n        \n\n\nPlease join us at one or more of these events. Locations and additional details will be provided once the event goes live for registrations.\n\n\n\n\nJoin us Sunday evenings\, 6 pm PST / 9 pm EST on the Newborn Care Solutions Facebook page for Real Talk.
URL:https://thencsa.com/event/real-talk-with-tonya-sakowicz-2022-11-27/
END:VEVENT
BEGIN:VEVENT
DTSTART;TZID=America/Los_Angeles:20221120T180000
DTEND;TZID=America/Los_Angeles:20221120T190000
DTSTAMP:20260419T125113
CREATED:20210420T043656Z
LAST-MODIFIED:20210420T043656Z
UID:7098-1668967200-1668970800@thencsa.com
SUMMARY:Real Talk\, with Tonya Sakowicz
DESCRIPTION:🌟 Explore Our Training Programs\n            Professional development opportunities for newborn care specialists \n            \n                Apply to Join\n                Family Info\n                Our Process\n            \n        \n\n\nPlease join us at one or more of these events. Locations and additional details will be provided once the event goes live for registrations.\n\n\n\n\nJoin us Sunday evenings\, 6 pm PST / 9 pm EST on the Newborn Care Solutions Facebook page for Real Talk.
URL:https://thencsa.com/event/real-talk-with-tonya-sakowicz-2022-11-20/
END:VEVENT
BEGIN:VEVENT
DTSTART;TZID=America/Los_Angeles:20221113T180000
DTEND;TZID=America/Los_Angeles:20221113T190000
DTSTAMP:20260419T125113
CREATED:20210420T043656Z
LAST-MODIFIED:20210420T043656Z
UID:7097-1668362400-1668366000@thencsa.com
SUMMARY:Real Talk\, with Tonya Sakowicz
DESCRIPTION:🌟 Explore Our Training Programs\n            Professional development opportunities for newborn care specialists \n            \n                Apply to Join\n                Family Info\n                Our Process\n            \n        \n\n\nPlease join us at one or more of these events. Locations and additional details will be provided once the event goes live for registrations.\n\n\n\n\nJoin us Sunday evenings\, 6 pm PST / 9 pm EST on the Newborn Care Solutions Facebook page for Real Talk.
URL:https://thencsa.com/event/real-talk-with-tonya-sakowicz-2022-11-13/
END:VEVENT
BEGIN:VEVENT
DTSTART;TZID=America/Los_Angeles:20221106T180000
DTEND;TZID=America/Los_Angeles:20221106T190000
DTSTAMP:20260419T125113
CREATED:20210420T043656Z
LAST-MODIFIED:20210420T043656Z
UID:7096-1667757600-1667761200@thencsa.com
SUMMARY:Real Talk\, with Tonya Sakowicz
DESCRIPTION:🌟 Explore Our Training Programs\n            Professional development opportunities for newborn care specialists \n            \n                Apply to Join\n                Family Info\n                Our Process\n            \n        \n\n\nPlease join us at one or more of these events. Locations and additional details will be provided once the event goes live for registrations.\n\n\n\n\nJoin us Sunday evenings\, 6 pm PST / 9 pm EST on the Newborn Care Solutions Facebook page for Real Talk.
URL:https://thencsa.com/event/real-talk-with-tonya-sakowicz-2022-11-06/
END:VEVENT
BEGIN:VEVENT
DTSTART;TZID=America/Los_Angeles:20221030T180000
DTEND;TZID=America/Los_Angeles:20221030T190000
DTSTAMP:20260419T125113
CREATED:20210420T043656Z
LAST-MODIFIED:20210420T043656Z
UID:7095-1667152800-1667156400@thencsa.com
SUMMARY:Real Talk\, with Tonya Sakowicz
DESCRIPTION:🌟 Explore Our Training Programs\n            Professional development opportunities for newborn care specialists \n            \n                Apply to Join\n                Family Info\n                Our Process\n            \n        \n\n\nPlease join us at one or more of these events. Locations and additional details will be provided once the event goes live for registrations.\n\n\n\n\nJoin us Sunday evenings\, 6 pm PST / 9 pm EST on the Newborn Care Solutions Facebook page for Real Talk.
URL:https://thencsa.com/event/real-talk-with-tonya-sakowicz-2022-10-30/
END:VEVENT
BEGIN:VEVENT
DTSTART;TZID=America/Los_Angeles:20221023T180000
DTEND;TZID=America/Los_Angeles:20221023T190000
DTSTAMP:20260419T125113
CREATED:20210420T043656Z
LAST-MODIFIED:20210420T043656Z
UID:7094-1666548000-1666551600@thencsa.com
SUMMARY:Real Talk\, with Tonya Sakowicz
DESCRIPTION:🌟 Explore Our Training Programs\n            Professional development opportunities for newborn care specialists \n            \n                Apply to Join\n                Family Info\n                Our Process\n            \n        \n\n\nPlease join us at one or more of these events. Locations and additional details will be provided once the event goes live for registrations.\n\n\n\n\nJoin us Sunday evenings\, 6 pm PST / 9 pm EST on the Newborn Care Solutions Facebook page for Real Talk.
URL:https://thencsa.com/event/real-talk-with-tonya-sakowicz-2022-10-23/
END:VEVENT
BEGIN:VEVENT
DTSTART;TZID=America/Los_Angeles:20221016T180000
DTEND;TZID=America/Los_Angeles:20221016T190000
DTSTAMP:20260419T125113
CREATED:20210420T043656Z
LAST-MODIFIED:20210420T043656Z
UID:7093-1665943200-1665946800@thencsa.com
SUMMARY:Real Talk\, with Tonya Sakowicz
DESCRIPTION:🌟 Explore Our Training Programs\n            Professional development opportunities for newborn care specialists \n            \n                Apply to Join\n                Family Info\n                Our Process\n            \n        \n\n\nPlease join us at one or more of these events. Locations and additional details will be provided once the event goes live for registrations.\n\n\n\n\nJoin us Sunday evenings\, 6 pm PST / 9 pm EST on the Newborn Care Solutions Facebook page for Real Talk.
URL:https://thencsa.com/event/real-talk-with-tonya-sakowicz-2022-10-16/
END:VEVENT
BEGIN:VEVENT
DTSTART;TZID=America/Los_Angeles:20221009T180000
DTEND;TZID=America/Los_Angeles:20221009T190000
DTSTAMP:20260419T125113
CREATED:20210420T043656Z
LAST-MODIFIED:20210420T043656Z
UID:7092-1665338400-1665342000@thencsa.com
SUMMARY:Real Talk\, with Tonya Sakowicz
DESCRIPTION:🌟 Explore Our Training Programs\n            Professional development opportunities for newborn care specialists \n            \n                Apply to Join\n                Family Info\n                Our Process\n            \n        \n\n\nPlease join us at one or more of these events. Locations and additional details will be provided once the event goes live for registrations.\n\n\n\n\nJoin us Sunday evenings\, 6 pm PST / 9 pm EST on the Newborn Care Solutions Facebook page for Real Talk.
URL:https://thencsa.com/event/real-talk-with-tonya-sakowicz-2022-10-09/
END:VEVENT
BEGIN:VEVENT
DTSTART;TZID=America/Los_Angeles:20221002T180000
DTEND;TZID=America/Los_Angeles:20221002T190000
DTSTAMP:20260419T125113
CREATED:20210420T043656Z
LAST-MODIFIED:20210420T043656Z
UID:7091-1664733600-1664737200@thencsa.com
SUMMARY:Real Talk\, with Tonya Sakowicz
DESCRIPTION:🌟 Explore Our Training Programs\n            Professional development opportunities for newborn care specialists \n            \n                Apply to Join\n                Family Info\n                Our Process\n            \n        \n\n\nPlease join us at one or more of these events. Locations and additional details will be provided once the event goes live for registrations.\n\n\n\n\nJoin us Sunday evenings\, 6 pm PST / 9 pm EST on the Newborn Care Solutions Facebook page for Real Talk.
URL:https://thencsa.com/event/real-talk-with-tonya-sakowicz-2022-10-02/
END:VEVENT
BEGIN:VEVENT
DTSTART;TZID=America/Los_Angeles:20220925T180000
DTEND;TZID=America/Los_Angeles:20220925T190000
DTSTAMP:20260419T125113
CREATED:20210420T043656Z
LAST-MODIFIED:20210420T043656Z
UID:7090-1664128800-1664132400@thencsa.com
SUMMARY:Real Talk\, with Tonya Sakowicz
DESCRIPTION:🌟 Explore Our Training Programs\n            Professional development opportunities for newborn care specialists \n            \n                Apply to Join\n                Family Info\n                Our Process\n            \n        \n\n\nPlease join us at one or more of these events. Locations and additional details will be provided once the event goes live for registrations.\n\n\n\n\nJoin us Sunday evenings\, 6 pm PST / 9 pm EST on the Newborn Care Solutions Facebook page for Real Talk.
URL:https://thencsa.com/event/real-talk-with-tonya-sakowicz-2022-09-25/
END:VEVENT
BEGIN:VEVENT
DTSTART;TZID=America/Los_Angeles:20220918T180000
DTEND;TZID=America/Los_Angeles:20220918T190000
DTSTAMP:20260419T125113
CREATED:20210420T043656Z
LAST-MODIFIED:20210420T043656Z
UID:7089-1663524000-1663527600@thencsa.com
SUMMARY:Real Talk\, with Tonya Sakowicz
DESCRIPTION:🌟 Explore Our Training Programs\n            Professional development opportunities for newborn care specialists \n            \n                Apply to Join\n                Family Info\n                Our Process\n            \n        \n\n\nPlease join us at one or more of these events. Locations and additional details will be provided once the event goes live for registrations.\n\n\n\n\nJoin us Sunday evenings\, 6 pm PST / 9 pm EST on the Newborn Care Solutions Facebook page for Real Talk.
URL:https://thencsa.com/event/real-talk-with-tonya-sakowicz-2022-09-18/
END:VEVENT
BEGIN:VEVENT
DTSTART;TZID=America/Los_Angeles:20220911T180000
DTEND;TZID=America/Los_Angeles:20220911T190000
DTSTAMP:20260419T125113
CREATED:20210420T043656Z
LAST-MODIFIED:20210420T043656Z
UID:7088-1662919200-1662922800@thencsa.com
SUMMARY:Real Talk\, with Tonya Sakowicz
DESCRIPTION:🌟 Explore Our Training Programs\n            Professional development opportunities for newborn care specialists \n            \n                Apply to Join\n                Family Info\n                Our Process\n            \n        \n\n\nPlease join us at one or more of these events. Locations and additional details will be provided once the event goes live for registrations.\n\n\n\n\nJoin us Sunday evenings\, 6 pm PST / 9 pm EST on the Newborn Care Solutions Facebook page for Real Talk.
URL:https://thencsa.com/event/real-talk-with-tonya-sakowicz-2022-09-11/
END:VEVENT
BEGIN:VEVENT
DTSTART;TZID=America/Los_Angeles:20220904T180000
DTEND;TZID=America/Los_Angeles:20220904T190000
DTSTAMP:20260419T125113
CREATED:20210420T043656Z
LAST-MODIFIED:20210420T043656Z
UID:7087-1662314400-1662318000@thencsa.com
SUMMARY:Real Talk\, with Tonya Sakowicz
DESCRIPTION:🌟 Explore Our Training Programs\n            Professional development opportunities for newborn care specialists \n            \n                Apply to Join\n                Family Info\n                Our Process\n            \n        \n\n\nPlease join us at one or more of these events. Locations and additional details will be provided once the event goes live for registrations.\n\n\n\n\nJoin us Sunday evenings\, 6 pm PST / 9 pm EST on the Newborn Care Solutions Facebook page for Real Talk.
URL:https://thencsa.com/event/real-talk-with-tonya-sakowicz-2022-09-04/
END:VEVENT
BEGIN:VEVENT
DTSTART;TZID=America/Los_Angeles:20220828T180000
DTEND;TZID=America/Los_Angeles:20220828T190000
DTSTAMP:20260419T125113
CREATED:20210420T043656Z
LAST-MODIFIED:20210420T043656Z
UID:7086-1661709600-1661713200@thencsa.com
SUMMARY:Real Talk\, with Tonya Sakowicz
DESCRIPTION:🌟 Explore Our Training Programs\n            Professional development opportunities for newborn care specialists \n            \n                Apply to Join\n                Family Info\n                Our Process\n            \n        \n\n\nPlease join us at one or more of these events. Locations and additional details will be provided once the event goes live for registrations.\n\n\n\n\nJoin us Sunday evenings\, 6 pm PST / 9 pm EST on the Newborn Care Solutions Facebook page for Real Talk.
URL:https://thencsa.com/event/real-talk-with-tonya-sakowicz-2022-08-28/
END:VEVENT
BEGIN:VEVENT
DTSTART;TZID=America/Los_Angeles:20220821T180000
DTEND;TZID=America/Los_Angeles:20220821T190000
DTSTAMP:20260419T125113
CREATED:20210420T043656Z
LAST-MODIFIED:20210420T043656Z
UID:7085-1661104800-1661108400@thencsa.com
SUMMARY:Real Talk\, with Tonya Sakowicz
DESCRIPTION:🌟 Explore Our Training Programs\n            Professional development opportunities for newborn care specialists \n            \n                Apply to Join\n                Family Info\n                Our Process\n            \n        \n\n\nPlease join us at one or more of these events. Locations and additional details will be provided once the event goes live for registrations.\n\n\n\n\nJoin us Sunday evenings\, 6 pm PST / 9 pm EST on the Newborn Care Solutions Facebook page for Real Talk.
URL:https://thencsa.com/event/real-talk-with-tonya-sakowicz-2022-08-21/
END:VEVENT
BEGIN:VEVENT
DTSTART;TZID=America/Los_Angeles:20220814T180000
DTEND;TZID=America/Los_Angeles:20220814T190000
DTSTAMP:20260419T125113
CREATED:20210420T043656Z
LAST-MODIFIED:20210420T043656Z
UID:7084-1660500000-1660503600@thencsa.com
SUMMARY:Real Talk\, with Tonya Sakowicz
DESCRIPTION:🌟 Explore Our Training Programs\n            Professional development opportunities for newborn care specialists \n            \n                Apply to Join\n                Family Info\n                Our Process\n            \n        \n\n\nPlease join us at one or more of these events. Locations and additional details will be provided once the event goes live for registrations.\n\n\n\n\nJoin us Sunday evenings\, 6 pm PST / 9 pm EST on the Newborn Care Solutions Facebook page for Real Talk.
URL:https://thencsa.com/event/real-talk-with-tonya-sakowicz-2022-08-14/
END:VEVENT
BEGIN:VEVENT
DTSTART;TZID=America/Los_Angeles:20220807T180000
DTEND;TZID=America/Los_Angeles:20220807T190000
DTSTAMP:20260419T125113
CREATED:20210420T043656Z
LAST-MODIFIED:20210420T043656Z
UID:7083-1659895200-1659898800@thencsa.com
SUMMARY:Real Talk\, with Tonya Sakowicz
DESCRIPTION:🌟 Explore Our Training Programs\n            Professional development opportunities for newborn care specialists \n            \n                Apply to Join\n                Family Info\n                Our Process\n            \n        \n\n\nPlease join us at one or more of these events. Locations and additional details will be provided once the event goes live for registrations.\n\n\n\n\nJoin us Sunday evenings\, 6 pm PST / 9 pm EST on the Newborn Care Solutions Facebook page for Real Talk.
URL:https://thencsa.com/event/real-talk-with-tonya-sakowicz-2022-08-07/
END:VEVENT
BEGIN:VEVENT
DTSTART;TZID=America/Los_Angeles:20220731T180000
DTEND;TZID=America/Los_Angeles:20220731T190000
DTSTAMP:20260419T125113
CREATED:20210420T043656Z
LAST-MODIFIED:20210420T043656Z
UID:7082-1659290400-1659294000@thencsa.com
SUMMARY:Real Talk\, with Tonya Sakowicz
DESCRIPTION:🌟 Explore Our Training Programs\n            Professional development opportunities for newborn care specialists \n            \n                Apply to Join\n                Family Info\n                Our Process\n            \n        \n\n\nPlease join us at one or more of these events. Locations and additional details will be provided once the event goes live for registrations.\n\n\n\n\nJoin us Sunday evenings\, 6 pm PST / 9 pm EST on the Newborn Care Solutions Facebook page for Real Talk.
URL:https://thencsa.com/event/real-talk-with-tonya-sakowicz-2022-07-31/
END:VEVENT
BEGIN:VEVENT
DTSTART;TZID=America/Los_Angeles:20220724T180000
DTEND;TZID=America/Los_Angeles:20220724T190000
DTSTAMP:20260419T125113
CREATED:20210420T043656Z
LAST-MODIFIED:20210420T043656Z
UID:7081-1658685600-1658689200@thencsa.com
SUMMARY:Real Talk\, with Tonya Sakowicz
DESCRIPTION:🌟 Explore Our Training Programs\n            Professional development opportunities for newborn care specialists \n            \n                Apply to Join\n                Family Info\n                Our Process\n            \n        \n\n\nPlease join us at one or more of these events. Locations and additional details will be provided once the event goes live for registrations.\n\n\n\n\nJoin us Sunday evenings\, 6 pm PST / 9 pm EST on the Newborn Care Solutions Facebook page for Real Talk.
URL:https://thencsa.com/event/real-talk-with-tonya-sakowicz-2022-07-24/
END:VEVENT
BEGIN:VEVENT
DTSTART;TZID=America/Los_Angeles:20220717T180000
DTEND;TZID=America/Los_Angeles:20220717T190000
DTSTAMP:20260419T125113
CREATED:20210420T043656Z
LAST-MODIFIED:20210420T043656Z
UID:7080-1658080800-1658084400@thencsa.com
SUMMARY:Real Talk\, with Tonya Sakowicz
DESCRIPTION:🌟 Explore Our Training Programs\n            Professional development opportunities for newborn care specialists \n            \n                Apply to Join\n                Family Info\n                Our Process\n            \n        \n\n\nPlease join us at one or more of these events. Locations and additional details will be provided once the event goes live for registrations.\n\n\n\n\nJoin us Sunday evenings\, 6 pm PST / 9 pm EST on the Newborn Care Solutions Facebook page for Real Talk.
URL:https://thencsa.com/event/real-talk-with-tonya-sakowicz-2022-07-17/
END:VEVENT
BEGIN:VEVENT
DTSTART;TZID=America/Los_Angeles:20220710T180000
DTEND;TZID=America/Los_Angeles:20220710T190000
DTSTAMP:20260419T125113
CREATED:20210420T043656Z
LAST-MODIFIED:20210420T043656Z
UID:7079-1657476000-1657479600@thencsa.com
SUMMARY:Real Talk\, with Tonya Sakowicz
DESCRIPTION:🌟 Explore Our Training Programs\n            Professional development opportunities for newborn care specialists \n            \n                Apply to Join\n                Family Info\n                Our Process\n            \n        \n\n\nPlease join us at one or more of these events. Locations and additional details will be provided once the event goes live for registrations.\n\n\n\n\nJoin us Sunday evenings\, 6 pm PST / 9 pm EST on the Newborn Care Solutions Facebook page for Real Talk.
URL:https://thencsa.com/event/real-talk-with-tonya-sakowicz-2022-07-10/
END:VEVENT
END:VCALENDAR