BEGIN:VCALENDAR
VERSION:2.0
PRODID:-//The Newborn Care Solutions Agency - ECPv6.15.20//NONSGML v1.0//EN
CALSCALE:GREGORIAN
METHOD:PUBLISH
X-ORIGINAL-URL:https://thencsa.com
X-WR-CALDESC:Events for The Newborn Care Solutions Agency
REFRESH-INTERVAL;VALUE=DURATION:PT1H
X-Robots-Tag:noindex
X-PUBLISHED-TTL:PT1H
BEGIN:VTIMEZONE
TZID:America/Los_Angeles
BEGIN:DAYLIGHT
TZOFFSETFROM:-0800
TZOFFSETTO:-0700
TZNAME:PDT
DTSTART:20200308T100000
END:DAYLIGHT
BEGIN:STANDARD
TZOFFSETFROM:-0700
TZOFFSETTO:-0800
TZNAME:PST
DTSTART:20201101T090000
END:STANDARD
BEGIN:DAYLIGHT
TZOFFSETFROM:-0800
TZOFFSETTO:-0700
TZNAME:PDT
DTSTART:20210314T100000
END:DAYLIGHT
BEGIN:STANDARD
TZOFFSETFROM:-0700
TZOFFSETTO:-0800
TZNAME:PST
DTSTART:20211107T090000
END:STANDARD
BEGIN:DAYLIGHT
TZOFFSETFROM:-0800
TZOFFSETTO:-0700
TZNAME:PDT
DTSTART:20220313T100000
END:DAYLIGHT
BEGIN:STANDARD
TZOFFSETFROM:-0700
TZOFFSETTO:-0800
TZNAME:PST
DTSTART:20221106T090000
END:STANDARD
END:VTIMEZONE
BEGIN:VEVENT
DTSTART;TZID=America/Los_Angeles:20210627T180000
DTEND;TZID=America/Los_Angeles:20210627T190000
DTSTAMP:20260421T090004
CREATED:20210420T043656Z
LAST-MODIFIED:20210420T043656Z
UID:7025-1624816800-1624820400@thencsa.com
SUMMARY:Real Talk\, with Tonya Sakowicz
DESCRIPTION:🌟 Explore Our Training Programs\n            Professional development opportunities for newborn care specialists \n            \n                Apply to Join\n                Family Info\n                Our Process\n            \n        \n\n\nPlease join us at one or more of these events. Locations and additional details will be provided once the event goes live for registrations.\n\n\n\n\nJoin us Sunday evenings\, 6 pm PST / 9 pm EST on the Newborn Care Solutions Facebook page for Real Talk.
URL:https://thencsa.com/event/real-talk-with-tonya-sakowicz-2021-06-27/
END:VEVENT
BEGIN:VEVENT
DTSTART;TZID=America/Los_Angeles:20210620T180000
DTEND;TZID=America/Los_Angeles:20210620T190000
DTSTAMP:20260421T090004
CREATED:20210420T043656Z
LAST-MODIFIED:20210420T043656Z
UID:7024-1624212000-1624215600@thencsa.com
SUMMARY:Real Talk\, with Tonya Sakowicz
DESCRIPTION:🌟 Explore Our Training Programs\n            Professional development opportunities for newborn care specialists \n            \n                Apply to Join\n                Family Info\n                Our Process\n            \n        \n\n\nPlease join us at one or more of these events. Locations and additional details will be provided once the event goes live for registrations.\n\n\n\n\nJoin us Sunday evenings\, 6 pm PST / 9 pm EST on the Newborn Care Solutions Facebook page for Real Talk.
URL:https://thencsa.com/event/real-talk-with-tonya-sakowicz-2021-06-20/
END:VEVENT
BEGIN:VEVENT
DTSTART;TZID=America/Los_Angeles:20210613T180000
DTEND;TZID=America/Los_Angeles:20210613T190000
DTSTAMP:20260421T090004
CREATED:20210420T043656Z
LAST-MODIFIED:20210420T043656Z
UID:7023-1623607200-1623610800@thencsa.com
SUMMARY:Real Talk\, with Tonya Sakowicz
DESCRIPTION:🌟 Explore Our Training Programs\n            Professional development opportunities for newborn care specialists \n            \n                Apply to Join\n                Family Info\n                Our Process\n            \n        \n\n\nPlease join us at one or more of these events. Locations and additional details will be provided once the event goes live for registrations.\n\n\n\n\nJoin us Sunday evenings\, 6 pm PST / 9 pm EST on the Newborn Care Solutions Facebook page for Real Talk.
URL:https://thencsa.com/event/real-talk-with-tonya-sakowicz-2021-06-13/
END:VEVENT
BEGIN:VEVENT
DTSTART;TZID=America/Los_Angeles:20210606T180000
DTEND;TZID=America/Los_Angeles:20210606T190000
DTSTAMP:20260421T090004
CREATED:20210420T043656Z
LAST-MODIFIED:20210420T043656Z
UID:7022-1623002400-1623006000@thencsa.com
SUMMARY:Real Talk\, with Tonya Sakowicz
DESCRIPTION:🌟 Explore Our Training Programs\n            Professional development opportunities for newborn care specialists \n            \n                Apply to Join\n                Family Info\n                Our Process\n            \n        \n\n\nPlease join us at one or more of these events. Locations and additional details will be provided once the event goes live for registrations.\n\n\n\n\nJoin us Sunday evenings\, 6 pm PST / 9 pm EST on the Newborn Care Solutions Facebook page for Real Talk.
URL:https://thencsa.com/event/real-talk-with-tonya-sakowicz-2021-06-06/
END:VEVENT
BEGIN:VEVENT
DTSTART;TZID=America/Los_Angeles:20210530T180000
DTEND;TZID=America/Los_Angeles:20210530T190000
DTSTAMP:20260421T090004
CREATED:20210420T043656Z
LAST-MODIFIED:20210420T043656Z
UID:7021-1622397600-1622401200@thencsa.com
SUMMARY:Real Talk\, with Tonya Sakowicz
DESCRIPTION:🌟 Explore Our Training Programs\n            Professional development opportunities for newborn care specialists \n            \n                Apply to Join\n                Family Info\n                Our Process\n            \n        \n\n\nPlease join us at one or more of these events. Locations and additional details will be provided once the event goes live for registrations.\n\n\n\n\nJoin us Sunday evenings\, 6 pm PST / 9 pm EST on the Newborn Care Solutions Facebook page for Real Talk.
URL:https://thencsa.com/event/real-talk-with-tonya-sakowicz-2021-05-30/
END:VEVENT
BEGIN:VEVENT
DTSTART;TZID=America/Los_Angeles:20210523T180000
DTEND;TZID=America/Los_Angeles:20210523T190000
DTSTAMP:20260421T090004
CREATED:20210420T043656Z
LAST-MODIFIED:20210420T043656Z
UID:7020-1621792800-1621796400@thencsa.com
SUMMARY:Real Talk\, with Tonya Sakowicz
DESCRIPTION:🌟 Explore Our Training Programs\n            Professional development opportunities for newborn care specialists \n            \n                Apply to Join\n                Family Info\n                Our Process\n            \n        \n\n\nPlease join us at one or more of these events. Locations and additional details will be provided once the event goes live for registrations.\n\n\n\n\nJoin us Sunday evenings\, 6 pm PST / 9 pm EST on the Newborn Care Solutions Facebook page for Real Talk.
URL:https://thencsa.com/event/real-talk-with-tonya-sakowicz-2021-05-23/
END:VEVENT
BEGIN:VEVENT
DTSTART;TZID=America/Los_Angeles:20210516T180000
DTEND;TZID=America/Los_Angeles:20210516T190000
DTSTAMP:20260421T090004
CREATED:20210420T043656Z
LAST-MODIFIED:20210420T043656Z
UID:7019-1621188000-1621191600@thencsa.com
SUMMARY:Real Talk\, with Tonya Sakowicz
DESCRIPTION:🌟 Explore Our Training Programs\n            Professional development opportunities for newborn care specialists \n            \n                Apply to Join\n                Family Info\n                Our Process\n            \n        \n\n\nPlease join us at one or more of these events. Locations and additional details will be provided once the event goes live for registrations.\n\n\n\n\nJoin us Sunday evenings\, 6 pm PST / 9 pm EST on the Newborn Care Solutions Facebook page for Real Talk.
URL:https://thencsa.com/event/real-talk-with-tonya-sakowicz-2021-05-16/
END:VEVENT
BEGIN:VEVENT
DTSTART;TZID=America/Los_Angeles:20210509T180000
DTEND;TZID=America/Los_Angeles:20210509T190000
DTSTAMP:20260421T090004
CREATED:20210420T043656Z
LAST-MODIFIED:20210420T043656Z
UID:7018-1620583200-1620586800@thencsa.com
SUMMARY:Real Talk\, with Tonya Sakowicz
DESCRIPTION:🌟 Explore Our Training Programs\n            Professional development opportunities for newborn care specialists \n            \n                Apply to Join\n                Family Info\n                Our Process\n            \n        \n\n\nPlease join us at one or more of these events. Locations and additional details will be provided once the event goes live for registrations.\n\n\n\n\nJoin us Sunday evenings\, 6 pm PST / 9 pm EST on the Newborn Care Solutions Facebook page for Real Talk.
URL:https://thencsa.com/event/real-talk-with-tonya-sakowicz-2021-05-09/
END:VEVENT
BEGIN:VEVENT
DTSTART;TZID=America/Los_Angeles:20210502T180000
DTEND;TZID=America/Los_Angeles:20210502T190000
DTSTAMP:20260421T090004
CREATED:20210420T043656Z
LAST-MODIFIED:20210420T043656Z
UID:7017-1619978400-1619982000@thencsa.com
SUMMARY:Real Talk\, with Tonya Sakowicz
DESCRIPTION:🌟 Explore Our Training Programs\n            Professional development opportunities for newborn care specialists \n            \n                Apply to Join\n                Family Info\n                Our Process\n            \n        \n\n\nPlease join us at one or more of these events. Locations and additional details will be provided once the event goes live for registrations.\n\n\n\n\nJoin us Sunday evenings\, 6 pm PST / 9 pm EST on the Newborn Care Solutions Facebook page for Real Talk.
URL:https://thencsa.com/event/real-talk-with-tonya-sakowicz-2021-05-02/
END:VEVENT
BEGIN:VEVENT
DTSTART;TZID=America/Los_Angeles:20210425T180000
DTEND;TZID=America/Los_Angeles:20210425T190000
DTSTAMP:20260421T090004
CREATED:20210420T043656Z
LAST-MODIFIED:20210420T052304Z
UID:7013-1619373600-1619377200@thencsa.com
SUMMARY:Real Talk\, with Tonya Sakowicz
DESCRIPTION:🌟 Explore Our Training Programs\n            Professional development opportunities for newborn care specialists \n            \n                Apply to Join\n                Family Info\n                Our Process\n            \n        \n\n\nPlease join us at one or more of these events. Locations and additional details will be provided once the event goes live for registrations.\n\n\n\n\nJoin us Sunday evenings\, 6 pm PST / 9 pm EST on the Newborn Care Solutions Facebook page for Real Talk.
URL:https://thencsa.com/event/real-talk-with-tonya-sakowicz/
END:VEVENT
END:VCALENDAR